BEGIN:VCALENDAR
VERSION:2.0
PRODID:-//Gravy For The Brain - Brasil - ECPv6.15.11//NONSGML v1.0//EN
CALSCALE:GREGORIAN
METHOD:PUBLISH
X-WR-CALNAME:Gravy For The Brain - Brasil
X-ORIGINAL-URL:https://brasil.gravyforthebrain.com
X-WR-CALDESC:Eventos para Gravy For The Brain - Brasil
REFRESH-INTERVAL;VALUE=DURATION:PT1H
X-Robots-Tag:noindex
X-PUBLISHED-TTL:PT1H
BEGIN:VTIMEZONE
TZID:America/Sao_Paulo
BEGIN:STANDARD
TZOFFSETFROM:-0300
TZOFFSETTO:-0300
TZNAME:-03
DTSTART:20210101T000000
END:STANDARD
END:VTIMEZONE
BEGIN:VEVENT
DTSTART;TZID=America/Sao_Paulo:20220303T193000
DTEND;TZID=America/Sao_Paulo:20220303T203000
DTSTAMP:20260420T210401
CREATED:20220302T110208Z
LAST-MODIFIED:20220302T113603Z
UID:10000229-1646335800-1646339400@brasil.gravyforthebrain.com
SUMMARY:Locução em Games
DESCRIPTION:Membros: Free \nNão membros: R$219 \n7:30pm BRT (Sao Paulo) / 10.30pm GMT (London) / 2.30pm PST (Los Angeles) / 5.30pm EST (New York) / 09.30am + 1 AEDT  (Sydney) \nO mercado de games está em constante expansão e nos últimos anos o investimento em games superou todas as outras mídias combinadas! \nNeste Webinário a encantadora Luiza Caspary vai falar com sobre como está o mercado na área games e como ela atua nesse segmento em alta. \nLuiza Caspary é cantora\, compositora e atriz\, uma das vozes mais promissoras da nova geração de artistas brasileiros. Radicada em São Paulo\, a baiana-gaúcha tem um álbum lançado\, O Caminho Certo e recentemente lançou single e videoclipe da música Primeiramente\, Respeito. \nNão membros:Não membros:Seu próximo álbum\, Mergulho está previsto para sair no primeiro semestre de 2018. Conhecida por dar voz a personagens famosos de videogames e ter gravado inúmeras campanhas publicitárias entre jingles e locuções\, ela também tem músicas suas em Filmes e Séries de Tv. Luiza tem se apresentado por São Paulo e outras cidades do Brasil\, já realizou duas turnês na Europa e é a primeira cantora do Brasil a tornar seu trabalho acessível para pessoas com deficiência\, este site inclusive já foi premiado algumas vezes pelos recursos que oferece.
URL:https://brasil.gravyforthebrain.com/event/locucao-em-games/
LOCATION:.\, .\, United Kingdom
CATEGORIES:Webinars
ATTACH;FMTTYPE=image/jpeg:https://brasil.gravyforthebrain.com/wp-content/uploads/2022/03/PlatformLocução-em-Games-_-3-3-2022-.jpg
END:VEVENT
BEGIN:VEVENT
DTSTART;TZID=America/Sao_Paulo:20220203T193000
DTEND;TZID=America/Sao_Paulo:20220203T203000
DTSTAMP:20260420T210401
CREATED:20220202T142643Z
LAST-MODIFIED:20220202T142949Z
UID:10000220-1643916600-1643920200@brasil.gravyforthebrain.com
SUMMARY:Treino de Interpretação com Regina Bittar
DESCRIPTION:Membros: Free \nNão membros: R$219 \n7:30pm BRT (Sao Paulo) / 10.30pm GMT (London) / 2.30pm PST (Los Angeles) / 5.30pm EST (New York) / 09.30am + 1 AEDT  (Sydney) \nQue tal praticar interpretação de textos em locução? Neste webinário\, Regina irá falar sobre as mais variadas técnicas e abordagens para que você possa praticar e aprimorar sua interpretação\, leitura e entrega. \nRegina Bittar é Comunicadora com quase 30 anos de atuação na locução publicitária e corporativa. Ela adora pessoas e ama falar. Aquariana visionária com 7 planetas em aquário\, ficou conhecida como a Voz da Tecnologia por ter sido a primeira Voz de IA em português lançada no Brasil em apps como: GPS\, Google Tradutor\, Siri e outros. \nFoi pauta dos maiores veículos de comunicação do país\, como O Estado de São Paulo (capa do Estadão de Domingo)\, programa Jô Soares (indicado como um dos mais assistidos)\, Danilo Gentili\, Globo News em Pauta\, Rede Record\, Vejinha São Paulo e muitos outros.
URL:https://brasil.gravyforthebrain.com/event/treino-de-interpretacao-com-regina-bittar/
LOCATION:.\, .\, United Kingdom
CATEGORIES:Webinars
ATTACH;FMTTYPE=image/jpeg:https://brasil.gravyforthebrain.com/wp-content/uploads/2022/02/Brasil-Webinar-Treino-de-Interpretação-_-3-2-2022.jpg
END:VEVENT
END:VCALENDAR