BEGIN:VCALENDAR
VERSION:2.0
PRODID:-//Gravy For The Brain - Brasil - ECPv6.15.11//NONSGML v1.0//EN
CALSCALE:GREGORIAN
METHOD:PUBLISH
X-WR-CALNAME:Gravy For The Brain - Brasil
X-ORIGINAL-URL:https://brasil.gravyforthebrain.com/?lang=en
X-WR-CALDESC:Events for Gravy For The Brain - Brasil
REFRESH-INTERVAL;VALUE=DURATION:PT1H
X-Robots-Tag:noindex
X-PUBLISHED-TTL:PT1H
BEGIN:VTIMEZONE
TZID:America/New_York
BEGIN:DAYLIGHT
TZOFFSETFROM:-0500
TZOFFSETTO:-0400
TZNAME:EDT
DTSTART:20180311T070000
END:DAYLIGHT
BEGIN:STANDARD
TZOFFSETFROM:-0400
TZOFFSETTO:-0500
TZNAME:EST
DTSTART:20181104T060000
END:STANDARD
BEGIN:DAYLIGHT
TZOFFSETFROM:-0500
TZOFFSETTO:-0400
TZNAME:EDT
DTSTART:20190310T070000
END:DAYLIGHT
BEGIN:STANDARD
TZOFFSETFROM:-0400
TZOFFSETTO:-0500
TZNAME:EST
DTSTART:20191103T060000
END:STANDARD
BEGIN:DAYLIGHT
TZOFFSETFROM:-0500
TZOFFSETTO:-0400
TZNAME:EDT
DTSTART:20200308T070000
END:DAYLIGHT
BEGIN:STANDARD
TZOFFSETFROM:-0400
TZOFFSETTO:-0500
TZNAME:EST
DTSTART:20201101T060000
END:STANDARD
END:VTIMEZONE
BEGIN:VEVENT
DTSTART;TZID=America/New_York:20190124T140000
DTEND;TZID=America/New_York:20190124T150000
DTSTAMP:20260420T144657
CREATED:20190104T114234Z
LAST-MODIFIED:20190104T114234Z
UID:10000164-1548338400-1548342000@brasil.gravyforthebrain.com
SUMMARY:Ad-libs in Auditions: Increase Your Bookings Through Playful Reads
DESCRIPTION:January 24th: 2pm EST / 11am PST \nEver thought of going off script for an audition? The very thought of it is enough to send most into a full on panic attack. But while everyone zigs in an audition\, maybe it’s time to zag and truly stand out from the crowd. \nJ Michael Collins is hosting a webinar to show you how you can use your natural charm to start ad-libbing in auditions to make your mark with playful reads and winning improv.
URL:https://brasil.gravyforthebrain.com/event/ad-libs-in-auditions-increase-your-bookings-through-playful-reads/?lang=en
LOCATION:Online
CATEGORIES:Webinars
ATTACH;FMTTYPE=image/jpeg:https://brasil.gravyforthebrain.com/wp-content/uploads/2019/01/Ad-libs-in-Auditions-Increase-Your-Bookings-Through-Playful-Reads.jpg
GEO:51.6118814;-0.1785603
END:VEVENT
BEGIN:VEVENT
DTSTART;TZID=America/New_York:20190117T140000
DTEND;TZID=America/New_York:20190117T150000
DTSTAMP:20260420T144657
CREATED:20190104T113735Z
LAST-MODIFIED:20190104T113735Z
UID:10000163-1547733600-1547737200@brasil.gravyforthebrain.com
SUMMARY:What Makes A Great Demo? With Special Guests Celia Siegel & AJ McKay
DESCRIPTION:January 17th: 2pm EST / 11am PST \nAsk a 1\,000 different people what makes a great demo and you’ll probably receive a 1\,000 different answers. But for this webinar on the subject\, we’ve bought in the only 2 people you’ll ever need to listen to. Demo producer AJ McKay and voice talent manager Celia Siegel know all about what makes a great demo that stands out and grabs the attention of the decision makers who really matter. \nJoin us for this webinar and set yourself on the path to finally creating that demo reel which brings out the best of you.
URL:https://brasil.gravyforthebrain.com/event/what-makes-a-great-demo-with-special-guests-celia-siegel-aj-mckay/?lang=en
LOCATION:Online
CATEGORIES:Webinars
ATTACH;FMTTYPE=image/jpeg:https://brasil.gravyforthebrain.com/wp-content/uploads/2019/01/What-Makes-a-Great-Demo.jpg
GEO:51.6118814;-0.1785603
END:VEVENT
END:VCALENDAR